BEGIN:VCALENDAR
VERSION:2.0
PRODID:-//https://www.petersgateinfantschool.co.uk///NONSGML kigkonsult.se iCalcreator 2.10.15//
METHOD:PUBLISH
BEGIN:VEVENT
UID:20260423T182258UTC-8737DBDo4Z@https://www.petersgateinfantschool.co.uk/
DTSTAMP:20260423T182258Z
DESCRIPTION: https://www.petersgateinfantschool.co.uk/school-calendar/event
 /1030-parent-forum-smartphone-free-childhood
DTSTART:20260129T140000Z
DTEND:20260129T150000Z
LOCATION:Petersgate Infant School (Green Ln\, Clanfield\, Waterlooville PO8
  0JU\, UK)
SUMMARY:Parent Forum - Smartphone free childhood
URL:https://www.petersgateinfantschool.co.uk/school-calendar/event/1030-par
 ent-forum-smartphone-free-childhood
END:VEVENT
END:VCALENDAR
