BEGIN:VCALENDAR
VERSION:2.0
PRODID:-//https://www.petersgateinfantschool.co.uk///NONSGML kigkonsult.se iCalcreator 2.10.15//
METHOD:PUBLISH
BEGIN:VEVENT
UID:20260421T085411UTC-6757ItCUMA@https://www.petersgateinfantschool.co.uk/
DTSTAMP:20260421T085411Z
DESCRIPTION: https://www.petersgateinfantschool.co.uk/school-calendar/event
 /1025-pops-christmas-raffle-drawn-time-tbc
DTSTART;VALUE=DATE:20251212
LOCATION:Petersgate Infant School (Green Ln\, Clanfield\, Waterlooville PO8
  0JU\, UK)
SUMMARY:PoPS Christmas Raffle Drawn (time-tbc)
URL:https://www.petersgateinfantschool.co.uk/school-calendar/event/1025-pop
 s-christmas-raffle-drawn-time-tbc
END:VEVENT
END:VCALENDAR
