BEGIN:VCALENDAR
VERSION:2.0
PRODID:-//https://www.petersgateinfantschool.co.uk///NONSGML kigkonsult.se iCalcreator 2.10.15//
METHOD:PUBLISH
BEGIN:VEVENT
UID:20260419T211915UTC-9853IVnun7@https://www.petersgateinfantschool.co.uk/
DTSTAMP:20260419T211915Z
DESCRIPTION: https://www.petersgateinfantschool.co.uk/school-calendar/event
 /1024-christmas-lunch
DTSTART;VALUE=DATE:20251211
LOCATION:Petersgate Infant School (Green Ln\, Clanfield\, Waterlooville PO8
  0JU\, UK)
SUMMARY:Christmas Lunch
URL:https://www.petersgateinfantschool.co.uk/school-calendar/event/1024-chr
 istmas-lunch
END:VEVENT
END:VCALENDAR
