BEGIN:VCALENDAR
VERSION:2.0
PRODID:-//https://www.petersgateinfantschool.co.uk///NONSGML kigkonsult.se iCalcreator 2.10.15//
METHOD:PUBLISH
BEGIN:VEVENT
UID:20260421T085551UTC-1888Zpvv2V@https://www.petersgateinfantschool.co.uk/
DTSTAMP:20260421T085551Z
DESCRIPTION: https://www.petersgateinfantschool.co.uk/school-calendar/event
 /1022-pops-christmas-shopping-day
DTSTART;VALUE=DATE:20251205
LOCATION:Petersgate Infant School (Green Ln\, Clanfield\, Waterlooville PO8
  0JU\, UK)
SUMMARY:PoPS Christmas Shopping Day
URL:https://www.petersgateinfantschool.co.uk/school-calendar/event/1022-pop
 s-christmas-shopping-day
END:VEVENT
END:VCALENDAR
