BEGIN:VCALENDAR
VERSION:2.0
PRODID:-//https://www.petersgateinfantschool.co.uk///NONSGML kigkonsult.se iCalcreator 2.10.15//
METHOD:PUBLISH
BEGIN:VEVENT
UID:20260424T011802UTC-1015LuV3ZW@https://www.petersgateinfantschool.co.uk/
DTSTAMP:20260424T011802Z
DESCRIPTION: https://www.petersgateinfantschool.co.uk/school-calendar/event
 /1018-non-uniform-for-christmas-shop-donations
DTSTART;VALUE=DATE:20251024
LOCATION:Petersgate Infant School (Green Ln\, Clanfield\, Waterlooville PO8
  0JU\, UK)
SUMMARY:Non-uniform for Christmas shop donations
URL:https://www.petersgateinfantschool.co.uk/school-calendar/event/1018-non
 -uniform-for-christmas-shop-donations
END:VEVENT
END:VCALENDAR
