BEGIN:VCALENDAR
VERSION:2.0
PRODID:-//https://www.petersgateinfantschool.co.uk///NONSGML kigkonsult.se iCalcreator 2.10.15//
METHOD:PUBLISH
BEGIN:VEVENT
UID:20260419T193726UTC-6182HuwaC3@https://www.petersgateinfantschool.co.uk/
DTSTAMP:20260419T193726Z
DESCRIPTION: https://www.petersgateinfantschool.co.uk/school-calendar/event
 /1017-pbs-parent-workshop
DTSTART;VALUE=DATE:20251023
LOCATION:Petersgate Infant School (Green Ln\, Clanfield\, Waterlooville PO8
  0JU\, UK)
SUMMARY:PBS Parent Workshop
URL:https://www.petersgateinfantschool.co.uk/school-calendar/event/1017-pbs
 -parent-workshop
END:VEVENT
END:VCALENDAR
