BEGIN:VCALENDAR
VERSION:2.0
PRODID:-//https://www.petersgateinfantschool.co.uk///NONSGML kigkonsult.se iCalcreator 2.10.15//
METHOD:PUBLISH
BEGIN:VEVENT
UID:20260423T150253UTC-3139oIT7d7@https://www.petersgateinfantschool.co.uk/
DTSTAMP:20260423T150253Z
DESCRIPTION: https://www.petersgateinfantschool.co.uk/school-calendar/event
 /1015-early-years-ncmp-vision-checks-by-school-nurses-summer-born
DTSTART;VALUE=DATE:20260422
LOCATION:Petersgate Infant School (Green Ln\, Clanfield\, Waterlooville PO8
  0JU\, UK)
SUMMARY:Early Years - NCMP & Vision checks by School Nurses (Summer born)
URL:https://www.petersgateinfantschool.co.uk/school-calendar/event/1015-ear
 ly-years-ncmp-vision-checks-by-school-nurses-summer-born
END:VEVENT
END:VCALENDAR
