BEGIN:VCALENDAR
VERSION:2.0
PRODID:-//https://www.petersgateinfantschool.co.uk///NONSGML kigkonsult.se iCalcreator 2.10.15//
METHOD:PUBLISH
BEGIN:VEVENT
UID:20260421T102320UTC-5496wtIrpS@https://www.petersgateinfantschool.co.uk/
DTSTAMP:20260421T102320Z
DESCRIPTION: https://www.petersgateinfantschool.co.uk/school-calendar/event
 /1009-dormouse-class-nativity-at-14-00
DTSTART:20251216T140000Z
DTEND:20251216T143000Z
LOCATION:Petersgate Infant School (Green Ln\, Clanfield\, Waterlooville PO8
  0JU\, UK)
SUMMARY:Dormouse class - Nativity at 14:00
URL:https://www.petersgateinfantschool.co.uk/school-calendar/event/1009-dor
 mouse-class-nativity-at-14-00
END:VEVENT
END:VCALENDAR
