BEGIN:VCALENDAR
VERSION:2.0
PRODID:-//https://www.petersgateinfantschool.co.uk///NONSGML kigkonsult.se iCalcreator 2.10.15//
METHOD:PUBLISH
BEGIN:VEVENT
UID:20260421T102838UTC-6218uaKp1L@https://www.petersgateinfantschool.co.uk/
DTSTAMP:20260421T102838Z
DESCRIPTION: https://www.petersgateinfantschool.co.uk/school-calendar/event
 /1007-christmas-jumper-day-with-non-uniform
DTSTART;VALUE=DATE:20251211
LOCATION:Petersgate Infant School (Green Ln\, Clanfield\, Waterlooville PO8
  0JU\, UK)
SUMMARY:Christmas Jumper Day with non-uniform
URL:https://www.petersgateinfantschool.co.uk/school-calendar/event/1007-chr
 istmas-jumper-day-with-non-uniform
END:VEVENT
END:VCALENDAR
