BEGIN:VCALENDAR
VERSION:2.0
PRODID:-//https://www.petersgateinfantschool.co.uk///NONSGML kigkonsult.se iCalcreator 2.10.15//
METHOD:PUBLISH
BEGIN:VEVENT
UID:20260419T194313UTC-6665jecU4s@https://www.petersgateinfantschool.co.uk/
DTSTAMP:20260419T194313Z
DESCRIPTION: https://www.petersgateinfantschool.co.uk/school-calendar/event
 /1005-hedgehog-class-nativity-at-st-james-church-clanfield-at-14-00
DTSTART:20251210T143000Z
DTEND:20251210T150000Z
LOCATION:Petersgate Infant School (Green Ln\, Clanfield\, Waterlooville PO8
  0JU\, UK)
SUMMARY:Hedgehog class - Nativity at St James Church\, Clanfield at 14:00
URL:https://www.petersgateinfantschool.co.uk/school-calendar/event/1005-hed
 gehog-class-nativity-at-st-james-church-clanfield-at-14-00
END:VEVENT
END:VCALENDAR
