BEGIN:VCALENDAR
VERSION:2.0
PRODID:-//https://www.petersgateinfantschool.co.uk///NONSGML kigkonsult.se iCalcreator 2.10.15//
METHOD:PUBLISH
BEGIN:VEVENT
UID:20260419T192951UTC-95712M0j0a@https://www.petersgateinfantschool.co.uk/
DTSTAMP:20260419T192951Z
DESCRIPTION: https://www.petersgateinfantschool.co.uk/school-calendar/event
 /1003-rabbit-class-nativity-at-st-james-church-clanfield-at-14-00
DTSTART:20251212T140000Z
DTEND:20251212T143000Z
LOCATION:Petersgate Infant School (Green Ln\, Clanfield\, Waterlooville PO8
  0JU\, UK)
SUMMARY:Rabbit class - Nativity at St James Church\, Clanfield at 14:00
URL:https://www.petersgateinfantschool.co.uk/school-calendar/event/1003-rab
 bit-class-nativity-at-st-james-church-clanfield-at-14-00
END:VEVENT
END:VCALENDAR
