BEGIN:VCALENDAR
VERSION:2.0
PRODID:-//https://www.petersgateinfantschool.co.uk///NONSGML kigkonsult.se iCalcreator 2.10.15//
METHOD:PUBLISH
BEGIN:VEVENT
UID:20260419T194313UTC-6655BJa0Km@https://www.petersgateinfantschool.co.uk/
DTSTAMP:20260419T194313Z
DESCRIPTION: https://www.petersgateinfantschool.co.uk/school-calendar/event
 /1001-fox-class-nativity-at-st-james-church-clanfield-at-14-00
DTSTART:20251208T140000Z
DTEND:20251208T143000Z
LOCATION:Petersgate Infant School (Green Ln\, Clanfield\, Waterlooville PO8
  0JU\, UK)
SUMMARY:Fox class - Nativity at St James Church\, Clanfield at 14:00
URL:https://www.petersgateinfantschool.co.uk/school-calendar/event/1001-fox
 -class-nativity-at-st-james-church-clanfield-at-14-00
END:VEVENT
END:VCALENDAR
