BEGIN:VCALENDAR
VERSION:2.0
PRODID:-//https://www.petersgateinfantschool.co.uk///NONSGML kigkonsult.se iCalcreator 2.10.15//
METHOD:PUBLISH
BEGIN:VEVENT
UID:20260424T010906UTC-2717N11ioV@https://www.petersgateinfantschool.co.uk/
DTSTAMP:20260424T010906Z
DESCRIPTION: https://www.petersgateinfantschool.co.uk/school-calendar/event
 /980-census-day-celebrate-lunches-change-of-menu-swap-thursday-to-wednesda
 y-details-to-folllow
DTSTART;VALUE=DATE:20251002
LOCATION:Petersgate Infant School (Green Ln\, Clanfield\, Waterlooville PO8
  0JU\, UK)
SUMMARY:Census Day Celebrate Lunches - change of menu (swap Thursday to Wed
 nesday) *details to folllow*
URL:https://www.petersgateinfantschool.co.uk/school-calendar/event/980-cens
 us-day-celebrate-lunches-change-of-menu-swap-thursday-to-wednesday-details
 -to-folllow
END:VEVENT
BEGIN:VEVENT
UID:20260424T010906UTC-2719lrjdS3@https://www.petersgateinfantschool.co.uk/
DTSTAMP:20260424T010906Z
DESCRIPTION: https://www.petersgateinfantschool.co.uk/school-calendar/event
 /981-reading-workshop-with-mrs-kelly
DTSTART:20251002T093000Z
DTEND:20251002T100000Z
LOCATION:Petersgate Infant School (Green Ln\, Clanfield\, Waterlooville PO8
  0JU\, UK)
SUMMARY:Reading Workshop with Mrs Kelly
URL:https://www.petersgateinfantschool.co.uk/school-calendar/event/981-read
 ing-workshop-with-mrs-kelly
END:VEVENT
END:VCALENDAR
