BEGIN:VCALENDAR
VERSION:2.0
PRODID:-//https://www.petersgateinfantschool.co.uk///NONSGML kigkonsult.se iCalcreator 2.10.15//
METHOD:PUBLISH
BEGIN:VEVENT
UID:20260424T024435UTC-0624wchU0p@https://www.petersgateinfantschool.co.uk/
DTSTAMP:20260424T024435Z
DESCRIPTION: https://www.petersgateinfantschool.co.uk/school-calendar/event
 /953-home-visits-2025-admissions-allocated-time-slot-am-only
DTSTART:20250909T090000Z
DTEND:20250909T120000Z
LOCATION:Petersgate Infant School (Green Ln\, Clanfield\, Waterlooville PO8
  0JU\, UK)
SUMMARY:Home visits - 2025 admissions (allocated time slot) am only
URL:https://www.petersgateinfantschool.co.uk/school-calendar/event/953-home
 -visits-2025-admissions-allocated-time-slot-am-only
END:VEVENT
BEGIN:VEVENT
UID:20260424T024435UTC-06264vgtrV@https://www.petersgateinfantschool.co.uk/
DTSTAMP:20260424T024435Z
DESCRIPTION: https://www.petersgateinfantschool.co.uk/school-calendar/event
 /975-class-visits-2025-admissions-pm-only
DTSTART:20250909T133000Z
DTEND:20250909T144500Z
LOCATION:Petersgate Infant School (Green Ln\, Clanfield\, Waterlooville PO8
  0JU\, UK)
SUMMARY:Class visits - 2025 admissions (pm only)
URL:https://www.petersgateinfantschool.co.uk/school-calendar/event/975-clas
 s-visits-2025-admissions-pm-only
END:VEVENT
END:VCALENDAR
