BEGIN:VCALENDAR
VERSION:2.0
PRODID:-//https://www.petersgateinfantschool.co.uk///NONSGML kigkonsult.se iCalcreator 2.10.15//
METHOD:PUBLISH
BEGIN:VEVENT
UID:20260424T024154UTC-3517m84EaU@https://www.petersgateinfantschool.co.uk/
DTSTAMP:20260424T024154Z
DESCRIPTION: https://www.petersgateinfantschool.co.uk/school-calendar/event
 /952-home-visits-2025-admissions-allocated-time-slot-am-only
DTSTART:20250908T090000Z
DTEND:20250908T120000Z
LOCATION:Home ()
SUMMARY:Home visits - 2025 admissions (allocated time slot) am only
URL:https://www.petersgateinfantschool.co.uk/school-calendar/event/952-home
 -visits-2025-admissions-allocated-time-slot-am-only
END:VEVENT
BEGIN:VEVENT
UID:20260424T024154UTC-3519Wd14UW@https://www.petersgateinfantschool.co.uk/
DTSTAMP:20260424T024154Z
DESCRIPTION: https://www.petersgateinfantschool.co.uk/school-calendar/event
 /974-class-visits-2025-admissions-pm-only
DTSTART:20250908T133000Z
DTEND:20250908T144500Z
LOCATION:Petersgate Infant School (Green Ln\, Clanfield\, Waterlooville PO8
  0JU\, UK)
SUMMARY:Class visits - 2025 admissions (pm only)
URL:https://www.petersgateinfantschool.co.uk/school-calendar/event/974-clas
 s-visits-2025-admissions-pm-only
END:VEVENT
END:VCALENDAR
