BEGIN:VCALENDAR
VERSION:2.0
PRODID:-//https://www.petersgateinfantschool.co.uk///NONSGML kigkonsult.se iCalcreator 2.10.15//
METHOD:PUBLISH
BEGIN:VEVENT
UID:20260424T024153UTC-5144s75iSz@https://www.petersgateinfantschool.co.uk/
DTSTAMP:20260424T024153Z
DESCRIPTION: https://www.petersgateinfantschool.co.uk/school-calendar/event
 /950-home-visits-2025-admissions-allocated-time-slot-am-only
DTSTART:20250905T090000Z
DTEND:20250905T120000Z
LOCATION:Home ()
SUMMARY:Home visits - 2025 admissions (allocated time slot) am only
URL:https://www.petersgateinfantschool.co.uk/school-calendar/event/950-home
 -visits-2025-admissions-allocated-time-slot-am-only
END:VEVENT
BEGIN:VEVENT
UID:20260424T024153UTC-5146WgZFLi@https://www.petersgateinfantschool.co.uk/
DTSTAMP:20260424T024153Z
DESCRIPTION: https://www.petersgateinfantschool.co.uk/school-calendar/event
 /973-class-visits-2025-admissions-pm-only
DTSTART:20250905T133000Z
DTEND:20250905T144500Z
LOCATION:Petersgate Infant School (Green Ln\, Clanfield\, Waterlooville PO8
  0JU\, UK)
SUMMARY:Class visits - 2025 admissions (pm only)
URL:https://www.petersgateinfantschool.co.uk/school-calendar/event/973-clas
 s-visits-2025-admissions-pm-only
END:VEVENT
END:VCALENDAR
