BEGIN:VCALENDAR
VERSION:2.0
PRODID:-//https://www.petersgateinfantschool.co.uk///NONSGML kigkonsult.se iCalcreator 2.10.15//
METHOD:PUBLISH
BEGIN:VEVENT
UID:20260424T024147UTC-8081V5Iaef@https://www.petersgateinfantschool.co.uk/
DTSTAMP:20260424T024147Z
DESCRIPTION: https://www.petersgateinfantschool.co.uk/school-calendar/event
 /911-first-day-of-term-for-ks1-years-1-2-school-opens-at-08-40
DTSTART;VALUE=DATE:20250904
LOCATION:Petersgate Infant School (Green Ln\, Clanfield\, Waterlooville PO8
  0JU\, UK)
SUMMARY:First day of term for KS1 (Years 1 & 2) - school opens at 08.40
URL:https://www.petersgateinfantschool.co.uk/school-calendar/event/911-firs
 t-day-of-term-for-ks1-years-1-2-school-opens-at-08-40
END:VEVENT
BEGIN:VEVENT
UID:20260424T024147UTC-8082Px4vbR@https://www.petersgateinfantschool.co.uk/
DTSTAMP:20260424T024147Z
DESCRIPTION: https://www.petersgateinfantschool.co.uk/school-calendar/event
 /951-home-visits-2025-admissions-allocated-time-slot-am-only
DTSTART:20250904T090000Z
DTEND:20250904T120000Z
LOCATION:Home ()
SUMMARY:Home visits - 2025 admissions (allocated time slot) am only
URL:https://www.petersgateinfantschool.co.uk/school-calendar/event/951-home
 -visits-2025-admissions-allocated-time-slot-am-only
END:VEVENT
BEGIN:VEVENT
UID:20260424T024147UTC-8084CfxVUD@https://www.petersgateinfantschool.co.uk/
DTSTAMP:20260424T024147Z
DESCRIPTION: https://www.petersgateinfantschool.co.uk/school-calendar/event
 /972-class-visits-2025-admissions-pm-only
DTSTART:20250904T133000Z
DTEND:20250904T144500Z
LOCATION:Petersgate Infant School (Green Ln\, Clanfield\, Waterlooville PO8
  0JU\, UK)
SUMMARY:Class visits - 2025 admissions (pm only)
URL:https://www.petersgateinfantschool.co.uk/school-calendar/event/972-clas
 s-visits-2025-admissions-pm-only
END:VEVENT
END:VCALENDAR
