BEGIN:VCALENDAR
VERSION:2.0
PRODID:-//https://www.petersgateinfantschool.co.uk///NONSGML kigkonsult.se iCalcreator 2.10.15//
METHOD:PUBLISH
BEGIN:VEVENT
UID:20260424T040859UTC-6983KM1wnV@https://www.petersgateinfantschool.co.uk/
DTSTAMP:20260424T040859Z
DESCRIPTION: https://www.petersgateinfantschool.co.uk/school-calendar/event
 /892-inset-day-school-closed-for-children
DTSTART;VALUE=DATE:20250903
LOCATION:Petersgate Infant School (Green Ln\, Clanfield\, Waterlooville PO8
  0JU\, UK)
SUMMARY:Inset day - school closed for children
URL:https://www.petersgateinfantschool.co.uk/school-calendar/event/892-inse
 t-day-school-closed-for-children
END:VEVENT
END:VCALENDAR
