BEGIN:VCALENDAR
VERSION:2.0
PRODID:-//https://www.petersgateinfantschool.co.uk///NONSGML kigkonsult.se iCalcreator 2.10.15//
METHOD:PUBLISH
BEGIN:VEVENT
UID:20260423T214301UTC-4303UHlo7o@https://www.petersgateinfantschool.co.uk/
DTSTAMP:20260423T214301Z
DESCRIPTION: https://www.petersgateinfantschool.co.uk/school-calendar/event
 /1057-summer-holidays-school-closed
DTSTART:20260723T000000Z
DTEND:20260831T000000Z
LOCATION:Petersgate Infant School (Green Ln\, Clanfield\, Waterlooville PO8
  0JU\, UK)
SUMMARY:Summer Holidays - school closed
URL:https://www.petersgateinfantschool.co.uk/school-calendar/event/1057-sum
 mer-holidays-school-closed
END:VEVENT
END:VCALENDAR
