BEGIN:VCALENDAR
VERSION:2.0
PRODID:-//https://www.petersgateinfantschool.co.uk///NONSGML kigkonsult.se iCalcreator 2.10.15//
METHOD:PUBLISH
BEGIN:VEVENT
UID:20260424T073638UTC-4411dheTbg@https://www.petersgateinfantschool.co.uk/
DTSTAMP:20260424T073638Z
DESCRIPTION: https://www.petersgateinfantschool.co.uk/school-calendar/event
 /728-last-day-of-term-finish-15-10-15-20
DTSTART;VALUE=DATE:20250722
LOCATION:Petersgate Infant School (Green Ln\, Clanfield\, Waterlooville PO8
  0JU\, UK)
SUMMARY:Last day of term - finish 15:10-15:20
URL:https://www.petersgateinfantschool.co.uk/school-calendar/event/728-last
 -day-of-term-finish-15-10-15-20
END:VEVENT
BEGIN:VEVENT
UID:20260424T073638UTC-4412VUCj0K@https://www.petersgateinfantschool.co.uk/
DTSTAMP:20260424T073638Z
DESCRIPTION: https://www.petersgateinfantschool.co.uk/school-calendar/event
 /933-year-2-leavers-goodbyes-for-parents-carers-times-tbc-details-to-follo
 w
DTSTART;VALUE=DATE:20250722
LOCATION:Petersgate Infant School (Green Ln\, Clanfield\, Waterlooville PO8
  0JU\, UK)
SUMMARY:Year 2 - Leavers 'Goodbyes' for Parents/Carers **times tbc & detail
 s to follow**
URL:https://www.petersgateinfantschool.co.uk/school-calendar/event/933-year
 -2-leavers-goodbyes-for-parents-carers-times-tbc-details-to-follow
END:VEVENT
END:VCALENDAR
