BEGIN:VCALENDAR
VERSION:2.0
PRODID:-//https://www.petersgateinfantschool.co.uk///NONSGML kigkonsult.se iCalcreator 2.10.15//
METHOD:PUBLISH
BEGIN:VEVENT
UID:20260424T054759UTC-1674WNZ1UD@https://www.petersgateinfantschool.co.uk/
DTSTAMP:20260424T054759Z
DESCRIPTION: https://www.petersgateinfantschool.co.uk/school-calendar/event
 /932-parents-consultations-optional-reports-booking-on-request
DTSTART;VALUE=DATE:20250717
LOCATION:Petersgate Infant School (Green Ln\, Clanfield\, Waterlooville PO8
  0JU\, UK)
SUMMARY:Parents Consultations (optional - reports) - booking on request
URL:https://www.petersgateinfantschool.co.uk/school-calendar/event/932-pare
 nts-consultations-optional-reports-booking-on-request
END:VEVENT
END:VCALENDAR
