BEGIN:VCALENDAR
VERSION:2.0
PRODID:-//https://www.petersgateinfantschool.co.uk///NONSGML kigkonsult.se iCalcreator 2.10.15//
METHOD:PUBLISH
BEGIN:VEVENT
UID:20260424T054759UTC-46936JU4t2@https://www.petersgateinfantschool.co.uk/
DTSTAMP:20260424T054759Z
DESCRIPTION: https://www.petersgateinfantschool.co.uk/school-calendar/event
 /931-end-of-year-reports-to-parents
DTSTART;VALUE=DATE:20250711
LOCATION:Petersgate Infant School (Green Ln\, Clanfield\, Waterlooville PO8
  0JU\, UK)
SUMMARY:End of Year Reports to parents
URL:https://www.petersgateinfantschool.co.uk/school-calendar/event/931-end-
 of-year-reports-to-parents
END:VEVENT
BEGIN:VEVENT
UID:20260424T054759UTC-4695u2Veev@https://www.petersgateinfantschool.co.uk/
DTSTAMP:20260424T054759Z
DESCRIPTION: https://www.petersgateinfantschool.co.uk/school-calendar/event
 /949-ready-steady-school-finale-event-teddy-bear-picnic-2025-admissions-al
 l-children
DTSTART:20250711T140000Z
DTEND:20250711T144500Z
LOCATION:Petersgate Infant School (Green Ln\, Clanfield\, Waterlooville PO8
  0JU\, UK)
SUMMARY:Ready Steady School Finale Event – Teddy Bear Picnic 2025 admission
 s (ALL children)
URL:https://www.petersgateinfantschool.co.uk/school-calendar/event/949-read
 y-steady-school-finale-event-teddy-bear-picnic-2025-admissions-all-childre
 n
END:VEVENT
END:VCALENDAR
