BEGIN:VCALENDAR
VERSION:2.0
PRODID:-//https://www.petersgateinfantschool.co.uk///NONSGML kigkonsult.se iCalcreator 2.10.15//
METHOD:PUBLISH
BEGIN:VEVENT
UID:20260424T073703UTC-6170fNk65u@https://www.petersgateinfantschool.co.uk/
DTSTAMP:20260424T073703Z
DESCRIPTION: https://www.petersgateinfantschool.co.uk/school-calendar/event
 /963-pops-year-2-leavers-party
DTSTART:20250709T134500Z
DTEND:20250709T154500Z
LOCATION:Petersgate Infant School (Green Ln\, Clanfield\, Waterlooville PO8
  0JU\, UK)
SUMMARY:PoPS Year 2 Leavers Party*
URL:https://www.petersgateinfantschool.co.uk/school-calendar/event/963-pops
 -year-2-leavers-party
END:VEVENT
END:VCALENDAR
