BEGIN:VCALENDAR
VERSION:2.0
PRODID:-//https://www.petersgateinfantschool.co.uk///NONSGML kigkonsult.se iCalcreator 2.10.15//
METHOD:PUBLISH
BEGIN:VEVENT
UID:20260424T054646UTC-4988loOvaN@https://www.petersgateinfantschool.co.uk/
DTSTAMP:20260424T054646Z
DESCRIPTION: https://www.petersgateinfantschool.co.uk/school-calendar/event
 /927-transition-week-details-to-follow
DTSTART:20250630T084000Z
DTEND:20250704T152000Z
LOCATION:Petersgate Infant School (Green Ln\, Clanfield\, Waterlooville PO8
  0JU\, UK)
SUMMARY:Transition Week **details to follow**
URL:https://www.petersgateinfantschool.co.uk/school-calendar/event/927-tran
 sition-week-details-to-follow
END:VEVENT
BEGIN:VEVENT
UID:20260424T054646UTC-4991f3nsWF@https://www.petersgateinfantschool.co.uk/
DTSTAMP:20260424T054646Z
DESCRIPTION: https://www.petersgateinfantschool.co.uk/school-calendar/event
 /928-parent-forum-feedback-on-sip
DTSTART:20250701T090000Z
DTEND:20250701T100000Z
LOCATION:Petersgate Infant School (Green Ln\, Clanfield\, Waterlooville PO8
  0JU\, UK)
SUMMARY:Parent Forum (feedback on SIP)
URL:https://www.petersgateinfantschool.co.uk/school-calendar/event/928-pare
 nt-forum-feedback-on-sip
END:VEVENT
BEGIN:VEVENT
UID:20260424T054646UTC-4992B1zVRA@https://www.petersgateinfantschool.co.uk/
DTSTAMP:20260424T054646Z
DESCRIPTION: https://www.petersgateinfantschool.co.uk/school-calendar/event
 /945-transition-2025-new-admissions-child-s-surname-c-f
DTSTART:20250701T100000Z
DTEND:20250701T110000Z
LOCATION:Petersgate Infant School (Green Ln\, Clanfield\, Waterlooville PO8
  0JU\, UK)
SUMMARY:Transition 2025 new admissions (child's surname C-F)
URL:https://www.petersgateinfantschool.co.uk/school-calendar/event/945-tran
 sition-2025-new-admissions-child-s-surname-c-f
END:VEVENT
END:VCALENDAR
