BEGIN:VCALENDAR
VERSION:2.0
PRODID:-//https://www.petersgateinfantschool.co.uk///NONSGML kigkonsult.se iCalcreator 2.10.15//
METHOD:PUBLISH
BEGIN:VEVENT
UID:20260424T092130UTC-2890DSTv4v@https://www.petersgateinfantschool.co.uk/
DTSTAMP:20260424T092130Z
DESCRIPTION: https://www.petersgateinfantschool.co.uk/school-calendar/event
 /926-deer-class-leavers-performance
DTSTART:20250626T140000Z
DTEND:20250626T143000Z
LOCATION:Petersgate Infant School (Green Ln\, Clanfield\, Waterlooville PO8
  0JU\, UK)
SUMMARY:Deer class leavers performance
URL:https://www.petersgateinfantschool.co.uk/school-calendar/event/926-deer
 -class-leavers-performance
END:VEVENT
END:VCALENDAR
