BEGIN:VCALENDAR
VERSION:2.0
PRODID:-//https://www.petersgateinfantschool.co.uk///NONSGML kigkonsult.se iCalcreator 2.10.15//
METHOD:PUBLISH
BEGIN:VEVENT
UID:20260423T164343UTC-1733nOEHkc@https://www.petersgateinfantschool.co.uk/
DTSTAMP:20260423T164343Z
DESCRIPTION: https://www.petersgateinfantschool.co.uk/school-calendar/event
 /1058-last-day-of-term-finish-15-10-15-20
DTSTART;VALUE=DATE:20260522
LOCATION:Petersgate Infant School (Green Ln\, Clanfield\, Waterlooville PO8
  0JU\, UK)
SUMMARY:Last day of term - finish 15:10-15:20
URL:https://www.petersgateinfantschool.co.uk/school-calendar/event/1058-las
 t-day-of-term-finish-15-10-15-20
END:VEVENT
BEGIN:VEVENT
UID:20260423T164343UTC-1734DUH7HU@https://www.petersgateinfantschool.co.uk/
DTSTAMP:20260423T164343Z
DESCRIPTION: https://www.petersgateinfantschool.co.uk/school-calendar/event
 /1060-walk-to-school-week
DTSTART:20260518T000000Z
DTEND:20260522T152000Z
LOCATION:Petersgate Infant School (Green Ln\, Clanfield\, Waterlooville PO8
  0JU\, UK)
SUMMARY:Walk To School Week
URL:https://www.petersgateinfantschool.co.uk/school-calendar/event/1060-wal
 k-to-school-week
END:VEVENT
END:VCALENDAR
