BEGIN:VCALENDAR
VERSION:2.0
PRODID:-//https://www.petersgateinfantschool.co.uk///NONSGML kigkonsult.se iCalcreator 2.10.15//
METHOD:PUBLISH
BEGIN:VEVENT
UID:20260423T182108UTC-6208PJz6vc@https://www.petersgateinfantschool.co.uk/
DTSTAMP:20260423T182108Z
DESCRIPTION: https://www.petersgateinfantschool.co.uk/school-calendar/event
 /1060-walk-to-school-week
DTSTART:20260518T000000Z
DTEND:20260522T152000Z
LOCATION:Petersgate Infant School (Green Ln\, Clanfield\, Waterlooville PO8
  0JU\, UK)
SUMMARY:Walk To School Week
URL:https://www.petersgateinfantschool.co.uk/school-calendar/event/1060-wal
 k-to-school-week
END:VEVENT
BEGIN:VEVENT
UID:20260423T182108UTC-6210B41jnk@https://www.petersgateinfantschool.co.uk/
DTSTAMP:20260423T182108Z
DESCRIPTION: https://www.petersgateinfantschool.co.uk/school-calendar/event
 /1066-census-day-celebrate-lunches
DTSTART;VALUE=DATE:20260521
LOCATION:Petersgate Infant School (Green Ln\, Clanfield\, Waterlooville PO8
  0JU\, UK)
SUMMARY:Census Day Celebrate Lunches
URL:https://www.petersgateinfantschool.co.uk/school-calendar/event/1066-cen
 sus-day-celebrate-lunches
END:VEVENT
BEGIN:VEVENT
UID:20260423T182108UTC-6211rp97fV@https://www.petersgateinfantschool.co.uk/
DTSTAMP:20260423T182108Z
DESCRIPTION: https://www.petersgateinfantschool.co.uk/school-calendar/event
 /1067-dormouse-class-assembly-14-00
DTSTART:20260521T140000Z
DTEND:20260521T143000Z
LOCATION:Petersgate Infant School (Green Ln\, Clanfield\, Waterlooville PO8
  0JU\, UK)
SUMMARY:Dormouse class assembly 14:00
URL:https://www.petersgateinfantschool.co.uk/school-calendar/event/1067-dor
 mouse-class-assembly-14-00
END:VEVENT
END:VCALENDAR
