BEGIN:VCALENDAR
VERSION:2.0
PRODID:-//https://www.petersgateinfantschool.co.uk///NONSGML kigkonsult.se iCalcreator 2.10.15//
METHOD:PUBLISH
BEGIN:VEVENT
UID:20260423T165251UTC-9781rZlHUj@https://www.petersgateinfantschool.co.uk/
DTSTAMP:20260423T165251Z
DESCRIPTION: https://www.petersgateinfantschool.co.uk/school-calendar/event
 /1059-class-photos-by-yellow
DTSTART;VALUE=DATE:20260515
LOCATION:Petersgate Infant School (Green Ln\, Clanfield\, Waterlooville PO8
  0JU\, UK)
SUMMARY:Class photos by Yellow
URL:https://www.petersgateinfantschool.co.uk/school-calendar/event/1059-cla
 ss-photos-by-yellow
END:VEVENT
END:VCALENDAR
