BEGIN:VCALENDAR
VERSION:2.0
PRODID:-//https://www.petersgateinfantschool.co.uk///NONSGML kigkonsult.se iCalcreator 2.10.15//
METHOD:PUBLISH
BEGIN:VEVENT
UID:20260423T164305UTC-5785csaEBA@https://www.petersgateinfantschool.co.uk/
DTSTAMP:20260423T164305Z
DESCRIPTION: https://www.petersgateinfantschool.co.uk/school-calendar/event
 /1038-year-1-learn-alongside-your-child-event-14-00-15-00-details-to-follo
 w
DTSTART:20260224T140000Z
DTEND:20260224T150000Z
LOCATION:Petersgate Infant School (Green Ln\, Clanfield\, Waterlooville PO8
  0JU\, UK)
SUMMARY:Year 1 - Learn alongside your child event 14:00-15:00 *details to f
 ollow*
URL:https://www.petersgateinfantschool.co.uk/school-calendar/event/1038-yea
 r-1-learn-alongside-your-child-event-14-00-15-00-details-to-follow
END:VEVENT
BEGIN:VEVENT
UID:20260423T164305UTC-5787rN1RbV@https://www.petersgateinfantschool.co.uk/
DTSTAMP:20260423T164305Z
DESCRIPTION: https://www.petersgateinfantschool.co.uk/school-calendar/event
 /1039-parent-forum-inclusive-practice-ordinarily-available-provision
DTSTART:20260224T144000Z
DTEND:20260224T151000Z
LOCATION:Petersgate Infant School (Green Ln\, Clanfield\, Waterlooville PO8
  0JU\, UK)
SUMMARY:Parent Forum - Inclusive practice/Ordinarily Available Provision
URL:https://www.petersgateinfantschool.co.uk/school-calendar/event/1039-par
 ent-forum-inclusive-practice-ordinarily-available-provision
END:VEVENT
END:VCALENDAR
