BEGIN:VCALENDAR
VERSION:2.0
PRODID:-//https://www.petersgateinfantschool.co.uk///NONSGML kigkonsult.se iCalcreator 2.10.15//
METHOD:PUBLISH
BEGIN:VEVENT
UID:20260423T182133UTC-9593ipUlvV@https://www.petersgateinfantschool.co.uk/
DTSTAMP:20260423T182133Z
DESCRIPTION: https://www.petersgateinfantschool.co.uk/school-calendar/event
 /902-last-day-of-term-finish-15-10-15-20
DTSTART;VALUE=DATE:20260213
LOCATION:Petersgate Infant School (Green Ln\, Clanfield\, Waterlooville PO8
  0JU\, UK)
SUMMARY:Last day of term - finish 15:10-15:20
URL:https://www.petersgateinfantschool.co.uk/school-calendar/event/902-last
 -day-of-term-finish-15-10-15-20
END:VEVENT
BEGIN:VEVENT
UID:20260423T182133UTC-9594R0X3wb@https://www.petersgateinfantschool.co.uk/
DTSTAMP:20260423T182133Z
DESCRIPTION: https://www.petersgateinfantschool.co.uk/school-calendar/event
 /1033-children-s-mental-health-week-this-is-my-place
DTSTART:20260209T085000Z
DTEND:20260213T152000Z
LOCATION:Petersgate Infant School (Green Ln\, Clanfield\, Waterlooville PO8
  0JU\, UK)
SUMMARY:Children's Mental Health week 'This is my place'
URL:https://www.petersgateinfantschool.co.uk/school-calendar/event/1033-chi
 ldren-s-mental-health-week-this-is-my-place
END:VEVENT
END:VCALENDAR
